BEGIN:VCALENDAR
VERSION:2.0
PRODID:-//pretix//AStA_Booking//
BEGIN:VEVENT
UID:pretix-hereforu-lgl-746@booking.asta.rwth-aachen.de
DTSTART;VALUE=DATE:20240903
DTEND;VALUE=DATE:20240904
DESCRIPTION:Tickets: https://booking.asta.rwth-aachen.de/hereforu/lgl/746/\
 nVeranstalter: HereForU RWTH Aachen University
DTSTAMP:20260425T110131Z
LOCATION:AStA der RWTH Aachen\, Pontwall 3\, 52062 Aachen
SUMMARY:Lennard (Deutsch)
END:VEVENT
END:VCALENDAR
