BEGIN:VCALENDAR
VERSION:2.0
PRODID:-//pretix//AStA_Booking//
BEGIN:VTIMEZONE
TZID:Europe/Berlin
BEGIN:STANDARD
DTSTART:20001029T040000
RRULE:FREQ=YEARLY;BYDAY=-1SU;BYMONTH=10
TZNAME:CET
TZOFFSETFROM:+0200
TZOFFSETTO:+0100
END:STANDARD
BEGIN:DAYLIGHT
DTSTART:20000326T030000
RRULE:FREQ=YEARLY;BYDAY=-1SU;BYMONTH=3
TZNAME:CEST
TZOFFSETFROM:+0100
TZOFFSETTO:+0200
END:DAYLIGHT
END:VTIMEZONE
BEGIN:VEVENT
UID:pretix-asta-engagement-nh-2025-0@booking.asta.rwth-aachen.de
DTSTART;TZID=Europe/Berlin:20250507T180000
DTEND;TZID=Europe/Berlin:20250507T220000
DESCRIPTION:Tickets: https://booking.asta.rwth-aachen.de/asta-engagement/nh
 -2025/\nEinlass: 07.05.2025 17:00\nVeranstalter: Engagement - AStA der RWT
 H Aachen
DTSTAMP:20260421T011859Z
LOCATION:Lust auf Life - Aachen
SUMMARY:Nachhaltigkeitstage 2025
END:VEVENT
END:VCALENDAR
