BEGIN:VCALENDAR
VERSION:2.0
PRODID:-//pretix//AStA_Booking//
BEGIN:VEVENT
UID:pretix-AStA-Kultur-astaluna2026-0@booking.asta.rwth-aachen.de
DTSTART;VALUE=DATE:20260417
DTEND;VALUE=DATE:20260420
DESCRIPTION:Tickets: https://booking.asta.rwth-aachen.de/AStA-Kultur/astalu
 na2026/\nVeranstalter: Referat für Kultur - AStA der RWTH Aachen
DTSTAMP:20260421T015553Z
LOCATION:DAS LIEBIG\, Liebigstraße 19\, 52070 Aachen
SUMMARY:astaluna festival 2026
END:VEVENT
END:VCALENDAR
